BEGIN:VCALENDAR
VERSION:2.0
PRODID:icalendar-ruby
CALSCALE:GREGORIAN
BEGIN:VEVENT
DTSTAMP:20210120T054035Z
UID:4279df33-ca3f-4f45-a4ef-d5bce8e0860a
DTSTART;VALUE=DATE:20200903
DESCRIPTION:Property ID# 487116\, Time: 12:00PM
SUMMARY:Auction for 
END:VEVENT
END:VCALENDAR
