BEGIN:VCALENDAR
VERSION:2.0
PRODID:icalendar-ruby
CALSCALE:GREGORIAN
BEGIN:VEVENT
DTSTAMP:20210120T054039Z
UID:d05b8c33-45c1-43a5-8f94-3e9efe63a792
DTSTART;VALUE=DATE:20200827
DESCRIPTION:Property ID# 486527\, Time: 12:00PM
SUMMARY:Auction for 
END:VEVENT
END:VCALENDAR
