BEGIN:VCALENDAR
VERSION:2.0
PRODID:icalendar-ruby
CALSCALE:GREGORIAN
BEGIN:VEVENT
DTSTAMP:20210120T053807Z
UID:e597438d-8d9b-495d-adbe-c85232487444
DTSTART;VALUE=DATE:20200828
DESCRIPTION:Property ID# 485805\, Time: 12:00PM
SUMMARY:Auction for 
END:VEVENT
END:VCALENDAR
