BEGIN:VCALENDAR
VERSION:2.0
PRODID:icalendar-ruby
CALSCALE:GREGORIAN
BEGIN:VEVENT
DTSTAMP:20210120T053817Z
UID:5c99308e-ab39-41cf-973e-f36954ce40fc
DTSTART;VALUE=DATE:20200805
DESCRIPTION:Property ID# 485714\, Time: 4:00PM
SUMMARY:Auction for 
END:VEVENT
END:VCALENDAR
