BEGIN:VCALENDAR
VERSION:2.0
PRODID:icalendar-ruby
CALSCALE:GREGORIAN
BEGIN:VEVENT
DTSTAMP:20210121T211531Z
UID:270c9b47-d249-4cb4-8c90-113e8fabc277
DTSTART;VALUE=DATE:20200729
DESCRIPTION:Property ID# 484465\, Time: 4:30PM
SUMMARY:Auction for 
END:VEVENT
END:VCALENDAR
