BEGIN:VCALENDAR
VERSION:2.0
PRODID:icalendar-ruby
CALSCALE:GREGORIAN
BEGIN:VEVENT
DTSTAMP:20210120T054040Z
UID:342b1d52-9aca-426c-b752-90728deef711
DTSTART;VALUE=DATE:20200730
DESCRIPTION:Property ID# 484181\, Time: 12:00PM
SUMMARY:Auction for 
END:VEVENT
END:VCALENDAR
