BEGIN:VCALENDAR
VERSION:2.0
PRODID:icalendar-ruby
CALSCALE:GREGORIAN
BEGIN:VEVENT
DTSTAMP:20210121T211444Z
UID:99d76e18-0e1f-4c7b-8d1e-993ef063b35a
DTSTART;VALUE=DATE:20200716
DESCRIPTION:Property ID# 483867\, Time: 10:00AM
SUMMARY:Auction for 
END:VEVENT
END:VCALENDAR
