BEGIN:VCALENDAR
VERSION:2.0
PRODID:icalendar-ruby
CALSCALE:GREGORIAN
BEGIN:VEVENT
DTSTAMP:20210121T211440Z
UID:a43b7080-e16f-4f63-a128-681bad081066
DTSTART;VALUE=DATE:20200708
DESCRIPTION:Property ID# 482905\, Time: 2:00PM
SUMMARY:Auction for 
END:VEVENT
END:VCALENDAR
