BEGIN:VCALENDAR
VERSION:2.0
PRODID:icalendar-ruby
CALSCALE:GREGORIAN
BEGIN:VEVENT
DTSTAMP:20210121T211441Z
UID:aee76317-3f21-4b34-a6ef-142da3a7f6a6
DTSTART;VALUE=DATE:20200610
DESCRIPTION:Property ID# 481010\, Time: 2:00PM
SUMMARY:Auction for 
END:VEVENT
END:VCALENDAR
