BEGIN:VCALENDAR
VERSION:2.0
PRODID:icalendar-ruby
CALSCALE:GREGORIAN
BEGIN:VEVENT
DTSTAMP:20210121T211500Z
UID:353e2bbd-30e3-498a-b2ba-e01575a9e66c
DTSTART;VALUE=DATE:20200611
DESCRIPTION:Property ID# 480704\, Time: 12:00PM
SUMMARY:Auction for 
END:VEVENT
END:VCALENDAR
