BEGIN:VCALENDAR
VERSION:2.0
PRODID:icalendar-ruby
CALSCALE:GREGORIAN
BEGIN:VEVENT
DTSTAMP:20210120T054045Z
UID:0ba5cefd-ce12-46f5-9f13-f4d532aeba33
DTSTART;VALUE=DATE:20200528
DESCRIPTION:Property ID# 480526\, Locatoin: 98 Moorhouse Ave\, Christchurch
 \, Time: 12:00PM
SUMMARY:Auction for 
END:VEVENT
END:VCALENDAR
