BEGIN:VCALENDAR
VERSION:2.0
PRODID:icalendar-ruby
CALSCALE:GREGORIAN
BEGIN:VEVENT
DTSTAMP:20210120T054046Z
UID:2fc00f62-ccf1-44c3-be5d-9310af012757
DTSTART;VALUE=DATE:20200521
DESCRIPTION:Property ID# 477272\, Time: 12:00PM
SUMMARY:Auction for 
END:VEVENT
END:VCALENDAR
