BEGIN:VCALENDAR
VERSION:2.0
PRODID:icalendar-ruby
CALSCALE:GREGORIAN
BEGIN:VEVENT
DTSTAMP:20210121T211807Z
UID:2a74cd18-d0a5-4e5a-912d-20f7306dc966
DTSTART;VALUE=DATE:20200416
DESCRIPTION:Property ID# 476704\, Time: 4:00PM
SUMMARY:Auction for 
END:VEVENT
END:VCALENDAR
