BEGIN:VCALENDAR
VERSION:2.0
PRODID:icalendar-ruby
CALSCALE:GREGORIAN
BEGIN:VEVENT
DTSTAMP:20210120T054048Z
UID:cc55316f-a03f-4a53-90ce-54869f04d8f1
DTSTART;VALUE=DATE:20200409
DESCRIPTION:Property ID# 476578\, Time: 12:00PM
SUMMARY:Auction for 
END:VEVENT
END:VCALENDAR
