BEGIN:VCALENDAR
VERSION:2.0
PRODID:icalendar-ruby
CALSCALE:GREGORIAN
BEGIN:VEVENT
DTSTAMP:20210121T211443Z
UID:9b0c53da-5ea4-430d-b3e3-258f9be22413
DTSTART;VALUE=DATE:20200401
DESCRIPTION:Property ID# 476040\, Time: 2:00PM
SUMMARY:Auction for 
END:VEVENT
END:VCALENDAR
