BEGIN:VCALENDAR
VERSION:2.0
PRODID:icalendar-ruby
CALSCALE:GREGORIAN
BEGIN:VEVENT
DTSTAMP:20210121T211532Z
UID:ca7b09a6-af11-488d-baf9-c9e9f63fdd5b
DTSTART;VALUE=DATE:20200331
DESCRIPTION:Property ID# 475453\, Locatoin: Good real estate Papanui \, Tim
 e: 2:00PM
SUMMARY:Auction for 
END:VEVENT
END:VCALENDAR
