BEGIN:VCALENDAR
VERSION:2.0
PRODID:icalendar-ruby
CALSCALE:GREGORIAN
BEGIN:VEVENT
DTSTAMP:20210120T054049Z
UID:84100364-e44f-474d-96af-165d287d033e
DTSTART;VALUE=DATE:20200402
DESCRIPTION:Property ID# 475353\, Time: 12:00PM
SUMMARY:Auction for 
END:VEVENT
END:VCALENDAR
