BEGIN:VCALENDAR
VERSION:2.0
PRODID:icalendar-ruby
CALSCALE:GREGORIAN
BEGIN:VEVENT
DTSTAMP:20210121T211534Z
UID:5f3f808b-bd56-429b-b90d-d88aa386e0ab
DTSTART;VALUE=DATE:20200324
DESCRIPTION:Property ID# 474634\, Locatoin: Harcourts Papanui\, Time: 3:00P
 M
SUMMARY:Auction for 
END:VEVENT
END:VCALENDAR
