BEGIN:VCALENDAR
VERSION:2.0
PRODID:icalendar-ruby
CALSCALE:GREGORIAN
BEGIN:VEVENT
DTSTAMP:20210120T054051Z
UID:664e7350-db64-4f92-b422-c89d82ceb02e
DTSTART;VALUE=DATE:20200319
DESCRIPTION:Property ID# 474456\, Time: 12:00PM
SUMMARY:Auction for 
END:VEVENT
END:VCALENDAR
