BEGIN:VCALENDAR
VERSION:2.0
PRODID:icalendar-ruby
CALSCALE:GREGORIAN
BEGIN:VEVENT
DTSTAMP:20210121T211809Z
UID:d519532e-dc0b-47ac-896e-23c2c6bb3938
DTSTART;VALUE=DATE:20200318
DESCRIPTION:Property ID# 473882\, Time: 4:00PM
SUMMARY:Auction for 
END:VEVENT
END:VCALENDAR
