BEGIN:VCALENDAR
VERSION:2.0
PRODID:icalendar-ruby
CALSCALE:GREGORIAN
BEGIN:VEVENT
DTSTAMP:20210120T054052Z
UID:6fcb4eb2-fd15-412c-8895-8d5c532d3b97
DTSTART;VALUE=DATE:20200312
DESCRIPTION:Property ID# 473474\, Time: 12:00PM
SUMMARY:Auction for 
END:VEVENT
END:VCALENDAR
