BEGIN:VCALENDAR
VERSION:2.0
PRODID:icalendar-ruby
CALSCALE:GREGORIAN
BEGIN:VEVENT
DTSTAMP:20210121T211511Z
UID:3a003152-a906-4e49-a6ec-a49f100d3bfe
DTSTART;VALUE=DATE:20200311
DESCRIPTION:Property ID# 472866\, Time: 4:00PM
SUMMARY:Auction for 
END:VEVENT
END:VCALENDAR
