BEGIN:VCALENDAR
VERSION:2.0
PRODID:icalendar-ruby
CALSCALE:GREGORIAN
BEGIN:VEVENT
DTSTAMP:20210121T211513Z
UID:f912da7e-ffde-435b-a105-69db47d4bab8
DTSTART;VALUE=DATE:20191211
DESCRIPTION:Property ID# 466983\, Time: 4:00PM
SUMMARY:Auction for 
END:VEVENT
END:VCALENDAR
