BEGIN:VCALENDAR
VERSION:2.0
PRODID:icalendar-ruby
CALSCALE:GREGORIAN
BEGIN:VEVENT
DTSTAMP:20210120T053809Z
UID:e289f631-db15-4a77-ae96-bf3fc7db75e9
DTSTART;VALUE=DATE:20191212
DESCRIPTION:Property ID# 466195\, Locatoin: 98 Moorhouse Avenue\, Time: 12:
 00PM
SUMMARY:Auction for 
END:VEVENT
END:VCALENDAR
