BEGIN:VCALENDAR
VERSION:2.0
PRODID:icalendar-ruby
CALSCALE:GREGORIAN
BEGIN:VEVENT
DTSTAMP:20210121T211756Z
UID:5a3963e1-390a-459e-8bbd-b314c2e78c5f
DTSTART;VALUE=DATE:20191121
DESCRIPTION:Property ID# 465626\, Locatoin: Grenadier House\, 98 Moorhouse 
 Avenue (unless sold prior)\, Time: 12:00PM
SUMMARY:Auction for 
END:VEVENT
END:VCALENDAR
